BEGIN:VCALENDAR
VERSION:2.0
PRODID:icalendar-ruby
CALSCALE:GREGORIAN
METHOD:PUBLISH
BEGIN:VEVENT
DTSTAMP:20260425T134036Z
UID:12-656441@springdalebaptistchurchlex.com
DTSTART:20261028T230000Z
DTEND:20261029T000000Z
CLASS:PUBLIC
CREATED:20260425T082235
DESCRIPTION:
LAST-MODIFIED:20260425T082235
LOCATION:
SUMMARY:Bible study
URL;VALUE=URI:https://www.springdalebaptistchurchlex.com/events/bible-study
 /2026-10-28
ATTACH;FILENAME=x9bn.jpg;FMTTYPE=image/jpeg:https://dq5pwpg1q8ru0.cloudfron
 t.net/2025/03/11/17/47/22/4f4fb63e-f697-423d-9813-fa7c31b9e56f/x9bn.jpg
END:VEVENT
END:VCALENDAR
