BEGIN:VCALENDAR
VERSION:2.0
PRODID:icalendar-ruby
CALSCALE:GREGORIAN
METHOD:PUBLISH
BEGIN:VEVENT
DTSTAMP:20260424T145814Z
UID:11-652734@springdalebaptistchurchlex.com
DTSTART:20261011T220000Z
DTEND:20261011T230000Z
CLASS:PUBLIC
CREATED:20260424T083438
DESCRIPTION:
LAST-MODIFIED:20260424T083438
LOCATION:
SUMMARY:BOOM youth group
URL;VALUE=URI:https://www.springdalebaptistchurchlex.com/events/boom-youth-
 group/2026-10-11
ATTACH;FILENAME=BOOM.jpg;FMTTYPE=image/jpeg:https://dq5pwpg1q8ru0.cloudfron
 t.net/2025/03/11/17/46/22/8b838b32-87f5-45a2-b0cb-cd8cc5f401b2/BOOM.jpg
END:VEVENT
END:VCALENDAR
