BEGIN:VCALENDAR
VERSION:2.0
PRODID:icalendar-ruby
CALSCALE:GREGORIAN
METHOD:PUBLISH
BEGIN:VEVENT
DTSTAMP:20260424T165532Z
UID:11-653338@springdalebaptistchurchlex.com
DTSTART:20261018T220000Z
DTEND:20261018T230000Z
CLASS:PUBLIC
CREATED:20260424T112724
DESCRIPTION:
LAST-MODIFIED:20260424T112724
LOCATION:
SUMMARY:BOOM youth group
URL;VALUE=URI:https://www.springdalebaptistchurchlex.com/events/boom-youth-
 group/2026-10-18
ATTACH;FILENAME=BOOM.jpg;FMTTYPE=image/jpeg:https://dq5pwpg1q8ru0.cloudfron
 t.net/2025/03/11/17/46/22/8b838b32-87f5-45a2-b0cb-cd8cc5f401b2/BOOM.jpg
END:VEVENT
END:VCALENDAR
