BEGIN:VCALENDAR
VERSION:2.0
PRODID:icalendar-ruby
CALSCALE:GREGORIAN
METHOD:PUBLISH
BEGIN:VEVENT
DTSTAMP:20260424T084708Z
UID:10-652042@springdalebaptistchurchlex.com
DTSTART:20260920T220000Z
DTEND:20260920T230000Z
CLASS:PUBLIC
CREATED:20260423T230632
DESCRIPTION:
LAST-MODIFIED:20260423T230632
LOCATION:
SUMMARY:Children in Action
URL;VALUE=URI:https://www.springdalebaptistchurchlex.com/events/children-in
 -action/2026-09-20
ATTACH;FILENAME=Picture1.jpg;FMTTYPE=image/jpeg:https://dq5pwpg1q8ru0.cloud
 front.net/2025/03/11/17/51/30/855f5010-efdc-4549-af3e-d3b24057c098/Picture
 1.jpg
END:VEVENT
END:VCALENDAR
