BEGIN:VCALENDAR
VERSION:2.0
PRODID:icalendar-ruby
CALSCALE:GREGORIAN
METHOD:PUBLISH
BEGIN:VEVENT
DTSTAMP:20260422T173421Z
UID:8-645848@springdalebaptistchurchlex.com
DTSTART:20261025T140000Z
DTEND:20261025T144500Z
CLASS:PUBLIC
CREATED:20260422T112842
DESCRIPTION:
LAST-MODIFIED:20260422T112842
LOCATION:
SUMMARY:Sunday School
URL;VALUE=URI:https://www.springdalebaptistchurchlex.com/events/sunday-scho
 ol/2026-10-25
ATTACH;FILENAME=x1Dh.jpg;FMTTYPE=image/jpeg:https://dq5pwpg1q8ru0.cloudfron
 t.net/2025/03/11/17/33/11/8233a61e-5853-4f2c-9b7d-2f7d14169611/x1Dh.jpg
END:VEVENT
END:VCALENDAR
